BEGIN:VCALENDAR
VERSION:2.0
PRODID:-//Central Health - ECPv6.15.20//NONSGML v1.0//EN
CALSCALE:GREGORIAN
METHOD:PUBLISH
X-WR-CALNAME:Central Health
X-ORIGINAL-URL:https://www.centralhealth.net/es
X-WR-CALDESC:Eventos para Central Health
REFRESH-INTERVAL;VALUE=DURATION:PT1H
X-Robots-Tag:noindex
X-PUBLISHED-TTL:PT1H
BEGIN:VTIMEZONE
TZID:America/Chicago
BEGIN:DAYLIGHT
TZOFFSETFROM:-0600
TZOFFSETTO:-0500
TZNAME:CDT
DTSTART:20290311T080000
END:DAYLIGHT
BEGIN:STANDARD
TZOFFSETFROM:-0500
TZOFFSETTO:-0600
TZNAME:CST
DTSTART:20291104T070000
END:STANDARD
BEGIN:DAYLIGHT
TZOFFSETFROM:-0600
TZOFFSETTO:-0500
TZNAME:CDT
DTSTART:20300310T080000
END:DAYLIGHT
BEGIN:STANDARD
TZOFFSETFROM:-0500
TZOFFSETTO:-0600
TZNAME:CST
DTSTART:20301103T070000
END:STANDARD
BEGIN:DAYLIGHT
TZOFFSETFROM:-0600
TZOFFSETTO:-0500
TZNAME:CDT
DTSTART:20310309T080000
END:DAYLIGHT
BEGIN:STANDARD
TZOFFSETFROM:-0500
TZOFFSETTO:-0600
TZNAME:CST
DTSTART:20311102T070000
END:STANDARD
END:VTIMEZONE
BEGIN:VEVENT
DTSTART;TZID=America/Chicago:20301220T150000
DTEND;TZID=America/Chicago:20301220T170000
DTSTAMP:20260420T013026
CREATED:20240917T192653Z
LAST-MODIFIED:20251203T160604Z
UID:10017576-1924009200-1924016400@www.centralhealth.net
SUMMARY:Fresh for Less Mobile Market
DESCRIPTION:Mobile Markets: tasty\, healthy\, close by. Farmshare Austin’s Fresh for Less Mobile Markets bring locally grown produce and other healthy grocery items at reduced prices to you. \nThey accept Lone Star\, SNAP\, P-EBT\, credit card\, debit card\, and cash payments. Get double the amount you spend on fresh produce with Double Up Food Bucks for an even greater value. \nFor questions\, contact foodaccess@farmshareaustin.org or visit online at farmshareaustin.org/food-access.
URL:https://www.centralhealth.net/es/event/fresh-for-less-mobile-market/2030-12-20/
LOCATION:Hornsby Bend Health & Wellness Center\, 3700 Gilbert Road\, Austin\, TX\, 78725\, United States
CATEGORIES:Hornsby Bend Health and Wellness Center,Wellness
END:VEVENT
END:VCALENDAR