BEGIN:VCALENDAR
VERSION:2.0
PRODID:-//Central Health - ECPv6.15.20//NONSGML v1.0//EN
CALSCALE:GREGORIAN
METHOD:PUBLISH
X-WR-CALNAME:Central Health
X-ORIGINAL-URL:https://www.centralhealth.net/fa
X-WR-CALDESC:Events for Central Health
REFRESH-INTERVAL;VALUE=DURATION:PT1H
X-Robots-Tag:noindex
X-PUBLISHED-TTL:PT1H
BEGIN:VTIMEZONE
TZID:America/Chicago
BEGIN:DAYLIGHT
TZOFFSETFROM:-0600
TZOFFSETTO:-0500
TZNAME:CDT
DTSTART:20250309T080000
END:DAYLIGHT
BEGIN:STANDARD
TZOFFSETFROM:-0500
TZOFFSETTO:-0600
TZNAME:CST
DTSTART:20251102T070000
END:STANDARD
BEGIN:DAYLIGHT
TZOFFSETFROM:-0600
TZOFFSETTO:-0500
TZNAME:CDT
DTSTART:20260308T080000
END:DAYLIGHT
BEGIN:STANDARD
TZOFFSETFROM:-0500
TZOFFSETTO:-0600
TZNAME:CST
DTSTART:20261101T070000
END:STANDARD
BEGIN:DAYLIGHT
TZOFFSETFROM:-0600
TZOFFSETTO:-0500
TZNAME:CDT
DTSTART:20270314T080000
END:DAYLIGHT
BEGIN:STANDARD
TZOFFSETFROM:-0500
TZOFFSETTO:-0600
TZNAME:CST
DTSTART:20271107T070000
END:STANDARD
END:VTIMEZONE
BEGIN:VEVENT
DTSTART;TZID=America/Chicago:20260422T183000
DTEND;TZID=America/Chicago:20260422T193000
DTSTAMP:20260419T153538
CREATED:20251203T150313Z
LAST-MODIFIED:20260407T144323Z
UID:10016346-1776882600-1776886200@www.centralhealth.net
SUMMARY:Free Yoga Classes
DESCRIPTION:Free\, bilingual\, and open to the community \nJoin our accessible yoga classes to reduce stress\, support your physical and mental health\, improve balance and flexibility. \nFor questions\, call 512.978.8570 \nKnow before you go\n\nArrive ten minutes early to register (first time only)\nSpace is limited\nChildcare is not available\nYoga mats and blocks will be provided
URL:https://www.centralhealth.net/fa/event/free-yoga-classes/2026-04-22/
LOCATION:Hornsby Bend Health & Wellness Center\, 3700 Gilbert Road\, Austin\, TX\, 78725\, United States
CATEGORIES:Hornsby Bend Health and Wellness Center,Wellness
ATTACH;FMTTYPE=image/jpeg:https://www.centralhealth.net/wp-content/uploads/2026/02/yoga-event-combo.jpg
END:VEVENT
BEGIN:VEVENT
DTSTART;TZID=America/Chicago:20260429T183000
DTEND;TZID=America/Chicago:20260429T193000
DTSTAMP:20260419T153538
CREATED:20251203T150313Z
LAST-MODIFIED:20260407T144323Z
UID:10016347-1777487400-1777491000@www.centralhealth.net
SUMMARY:Free Yoga Classes
DESCRIPTION:Free\, bilingual\, and open to the community \nJoin our accessible yoga classes to reduce stress\, support your physical and mental health\, improve balance and flexibility. \nFor questions\, call 512.978.8570 \nKnow before you go\n\nArrive ten minutes early to register (first time only)\nSpace is limited\nChildcare is not available\nYoga mats and blocks will be provided
URL:https://www.centralhealth.net/fa/event/free-yoga-classes/2026-04-29/
LOCATION:Hornsby Bend Health & Wellness Center\, 3700 Gilbert Road\, Austin\, TX\, 78725\, United States
CATEGORIES:Hornsby Bend Health and Wellness Center,Wellness
ATTACH;FMTTYPE=image/jpeg:https://www.centralhealth.net/wp-content/uploads/2026/02/yoga-event-combo.jpg
END:VEVENT
END:VCALENDAR