BEGIN:VCALENDAR
VERSION:2.0
PRODID:-//Central Health - ECPv6.15.20//NONSGML v1.0//EN
CALSCALE:GREGORIAN
METHOD:PUBLISH
X-WR-CALNAME:Central Health
X-ORIGINAL-URL:https://www.centralhealth.net/my
X-WR-CALDESC:Events for Central Health
REFRESH-INTERVAL;VALUE=DURATION:PT1H
X-Robots-Tag:noindex
X-PUBLISHED-TTL:PT1H
BEGIN:VTIMEZONE
TZID:America/Chicago
BEGIN:DAYLIGHT
TZOFFSETFROM:-0600
TZOFFSETTO:-0500
TZNAME:CDT
DTSTART:20300310T080000
END:DAYLIGHT
BEGIN:STANDARD
TZOFFSETFROM:-0500
TZOFFSETTO:-0600
TZNAME:CST
DTSTART:20301103T070000
END:STANDARD
BEGIN:DAYLIGHT
TZOFFSETFROM:-0600
TZOFFSETTO:-0500
TZNAME:CDT
DTSTART:20310309T080000
END:DAYLIGHT
BEGIN:STANDARD
TZOFFSETFROM:-0500
TZOFFSETTO:-0600
TZNAME:CST
DTSTART:20311102T070000
END:STANDARD
BEGIN:DAYLIGHT
TZOFFSETFROM:-0600
TZOFFSETTO:-0500
TZNAME:CDT
DTSTART:20320314T080000
END:DAYLIGHT
BEGIN:STANDARD
TZOFFSETFROM:-0500
TZOFFSETTO:-0600
TZNAME:CST
DTSTART:20321107T070000
END:STANDARD
END:VTIMEZONE
BEGIN:VEVENT
DTSTART;TZID=America/Chicago:20310326T183000
DTEND;TZID=America/Chicago:20310326T193000
DTSTAMP:20260420T111744
CREATED:20251203T150313Z
LAST-MODIFIED:20260407T144323Z
UID:10018990-1932316200-1932319800@www.centralhealth.net
SUMMARY:Free Yoga Classes
DESCRIPTION:Free\, bilingual\, and open to the community \nJoin our accessible yoga classes to reduce stress\, support your physical and mental health\, improve balance and flexibility. \nFor questions\, call 512.978.8570 \nKnow before you go\n\nArrive ten minutes early to register (first time only)\nSpace is limited\nChildcare is not available\nYoga mats and blocks will be provided
URL:https://www.centralhealth.net/my/event/free-yoga-classes/2031-03-26/
LOCATION:Hornsby Bend Health & Wellness Center\, 3700 Gilbert Road\, Austin\, TX\, 78725\, United States
CATEGORIES:Hornsby Bend Health and Wellness Center,Wellness
ATTACH;FMTTYPE=image/jpeg:https://www.centralhealth.net/wp-content/uploads/2026/02/yoga-event-combo.jpg
END:VEVENT
BEGIN:VEVENT
DTSTART;TZID=America/Chicago:20310326T183000
DTEND;TZID=America/Chicago:20310326T193000
DTSTAMP:20260420T111744
CREATED:20260406T180011Z
LAST-MODIFIED:20260407T144707Z
UID:10019269-1932316200-1932319800@www.centralhealth.net
SUMMARY:Free Zumba for Toning Classes
DESCRIPTION:Free\, bilingual\, and open to the community \nJoin a dance and fitness-focused class that blends international rhythms to tone and strengthen muscles\, enhance coordination\, improve posture\, and boost overall endurance. \nKnow before you go\n\nArrive ten minutes early to register (first time only)\nSpace is limited\nChildcare is not available\nLight hand weights will be provided\n\nFor questions\, call 512.978.8528
URL:https://www.centralhealth.net/my/event/free-zumba-for-toning-classes/2031-03-26/
LOCATION:Southeast Health & Wellness Center\, 2901 Montopolis Drive\, Austin\, TX\, 78741\, United States
CATEGORIES:Southeast Health & Wellness Center Schedule,Southeast Health and Wellness Center Events,Wellness
ATTACH;FMTTYPE=image/jpeg:https://www.centralhealth.net/wp-content/uploads/2026/04/Zumba-event-combo.jpg
END:VEVENT
BEGIN:VEVENT
DTSTART;TZID=America/Chicago:20310327T183000
DTEND;TZID=America/Chicago:20310327T193000
DTSTAMP:20260420T111744
CREATED:20250512T185232Z
LAST-MODIFIED:20260407T144922Z
UID:10018923-1932402600-1932406200@www.centralhealth.net
SUMMARY:Free Zumba Classes
DESCRIPTION:Free\, bilingual\, and open to the community \nJoin a dance and fitness-focused class that blends international rhythms to tone and strengthen muscles\, enhance coordination\, improve posture\, and boost overall endurance. \nKnow before you go\n\nArrive ten minutes early to register (first time only)\nSpace is limited\nChildcare is not available\nLight hand weights will be provided\n\nFor questions\, call 512.978.8570
URL:https://www.centralhealth.net/my/event/free-zumba-classes-2/2031-03-27/
LOCATION:Del Valle Health & Wellness Center\, 7050 Elroy Road\, Del Valle\, TX\, 78617\, United States
CATEGORIES:Del Valle Health and Wellness,Wellness
ATTACH;FMTTYPE=image/jpeg:https://www.centralhealth.net/wp-content/uploads/2026/04/Zumba-event-combo.jpg
END:VEVENT
BEGIN:VEVENT
DTSTART;TZID=America/Chicago:20310327T183000
DTEND;TZID=America/Chicago:20310327T193000
DTSTAMP:20260420T111744
CREATED:20251202T172040Z
LAST-MODIFIED:20260407T144348Z
UID:10019007-1932402600-1932406200@www.centralhealth.net
SUMMARY:Adaptive Yoga
DESCRIPTION:Free\, bilingual\, and open to the community \nJoin our accessible yoga classes to reduce stress\, support your physical and mental health\, improve balance and flexibility. \nFor questions\, call 512.978.8528 \nKnow before you go\n\nArrive ten minutes early to register (first time only)\nSpace is limited\nChildcare is not available\nYoga mats and blocks will be provided
URL:https://www.centralhealth.net/my/event/adaptive-yoga-yoga-adaptada-2/2031-03-27/
LOCATION:Southeast Health & Wellness Center\, 2901 Montopolis Drive\, Austin\, TX\, 78741\, United States
CATEGORIES:Southeast Health & Wellness Center Schedule,Southeast Health and Wellness Center Events,Wellness
ATTACH;FMTTYPE=image/jpeg:https://www.centralhealth.net/wp-content/uploads/2026/02/yoga-event-combo.jpg
END:VEVENT
BEGIN:VEVENT
DTSTART;TZID=America/Chicago:20310329T090000
DTEND;TZID=America/Chicago:20310329T100000
DTSTAMP:20260420T111744
CREATED:20260205T215342Z
LAST-MODIFIED:20260407T144731Z
UID:10018933-1932541200-1932544800@www.centralhealth.net
SUMMARY:Free Zumba Classes
DESCRIPTION:Free\, bilingual\, and open to the community \nJoin a dance and fitness-focused class that blends international rhythms to tone and strengthen muscles\, enhance coordination\, improve posture\, and boost overall endurance. \nKnow before you go\n\nArrive ten minutes early to register (first time only)\nSpace is limited\nChildcare is not available\nLight hand weights will be provided\n\nFor questions\, call 512.978.8528
URL:https://www.centralhealth.net/my/event/free-zumba-classes-5/2031-03-29/
LOCATION:Southeast Health & Wellness Center\, 2901 Montopolis Drive\, Austin\, TX\, 78741\, United States
CATEGORIES:Southeast Health & Wellness Center Schedule,Southeast Health and Wellness Center Events,Wellness
ATTACH;FMTTYPE=image/jpeg:https://www.centralhealth.net/wp-content/uploads/2026/04/Zumba-event-combo.jpg
END:VEVENT
BEGIN:VEVENT
DTSTART;TZID=America/Chicago:20310329T100000
DTEND;TZID=America/Chicago:20310329T110000
DTSTAMP:20260420T111744
CREATED:20260205T215534Z
LAST-MODIFIED:20260407T143854Z
UID:10018760-1932544800-1932548400@www.centralhealth.net
SUMMARY:Free Yoga and Tai Chi Classes (alternating weeks)
DESCRIPTION:Free\, bilingual and open to the community  \nJoin our accessible yoga classes to reduce stress\, support your physical and mental health\, improve balance and flexibility.  \nYoga for stress management and nervous system regulation – first and third Saturdays each month. \nTai Chi (slow\, controlled movements with deep breathing and focused intention to improve balance\, flexibility\, and strength) – second and fourth Saturdays each month. \nFor questions\, call 512.978.8528 \nKnow before you go\n\nArrive ten minutes early to register (first time only)\nSpace is limited\nChildcare is not available\nYoga mats and blocks will be provided
URL:https://www.centralhealth.net/my/event/free-yoga-classes-2/2031-03-29/
LOCATION:Southeast Health & Wellness Center\, 2901 Montopolis Drive\, Austin\, TX\, 78741\, United States
CATEGORIES:Southeast Health & Wellness Center Schedule,Southeast Health and Wellness Center Events,Wellness
ATTACH;FMTTYPE=image/jpeg:https://www.centralhealth.net/wp-content/uploads/2026/02/yoga-event-combo.jpg
END:VEVENT
BEGIN:VEVENT
DTSTART;TZID=America/Chicago:20310331T183000
DTEND;TZID=America/Chicago:20310331T193000
DTSTAMP:20260420T111744
CREATED:20251203T145656Z
LAST-MODIFIED:20260407T144828Z
UID:10018968-1932748200-1932751800@www.centralhealth.net
SUMMARY:Free Zumba Classes
DESCRIPTION:Free\, bilingual\, and open to the community \nJoin a dance and fitness-focused class that blends international rhythms to tone and strengthen muscles\, enhance coordination\, improve posture\, and boost overall endurance. \nKnow before you go\n\nArrive ten minutes early to register (first time only)\nSpace is limited\nChildcare is not available\nLight hand weights will be provided\n\nFor questions\, call 512.978.8528
URL:https://www.centralhealth.net/my/event/free-zumba-classes-3/2031-03-31/
LOCATION:Southeast Health & Wellness Center\, 2901 Montopolis Drive\, Austin\, TX\, 78741\, United States
CATEGORIES:Southeast Health & Wellness Center Schedule,Southeast Health and Wellness Center Events,Wellness
ATTACH;FMTTYPE=image/jpeg:https://www.centralhealth.net/wp-content/uploads/2026/04/Zumba-event-combo.jpg
END:VEVENT
BEGIN:VEVENT
DTSTART;TZID=America/Chicago:20310331T183000
DTEND;TZID=America/Chicago:20310331T193000
DTSTAMP:20260420T111744
CREATED:20260124T042454Z
LAST-MODIFIED:20260407T144806Z
UID:10018831-1932748200-1932751800@www.centralhealth.net
SUMMARY:Free Zumba Classes
DESCRIPTION:Free\, bilingual\, and open to the community \nJoin a dance and fitness-focused class that blends international rhythms to tone and strengthen muscles\, enhance coordination\, improve posture\, and boost overall endurance. \nKnow before you go\n\nArrive ten minutes early to register (first time only)\nSpace is limited\nChildcare is not available\nLight hand weights will be provided\n\nfor questions\, call 512.716.7210
URL:https://www.centralhealth.net/my/event/free-zumba-classes-4/2031-03-31/
LOCATION:Hornsby Bend Health & Wellness Center\, 3700 Gilbert Road\, Austin\, TX\, 78725\, United States
CATEGORIES:Hornsby Bend Health and Wellness Center,Wellness
ATTACH;FMTTYPE=image/jpeg:https://www.centralhealth.net/wp-content/uploads/2026/04/Zumba-event-combo.jpg
END:VEVENT
BEGIN:VEVENT
DTSTART;TZID=America/Chicago:20310331T183000
DTEND;TZID=America/Chicago:20310331T193000
DTSTAMP:20260420T111744
CREATED:20260304T142638Z
LAST-MODIFIED:20260407T144213Z
UID:10018973-1932748200-1932751800@www.centralhealth.net
SUMMARY:Free Yoga Classes
DESCRIPTION:Free\, bilingual\, and open to the community \nJoin our accessible yoga classes to reduce stress\, support your physical and mental health\, improve balance and flexibility. \nFor questions\, call 512.716.7210 \nKnow before you go\n\nArrive ten minutes early to register (first time only)\nSpace is limited\nChildcare is not available\nYoga mats and blocks will be provided
URL:https://www.centralhealth.net/my/event/free-yoga-classes-3/2031-03-31/
LOCATION:Del Valle Health & Wellness Center\, 7050 Elroy Road\, Del Valle\, TX\, 78617\, United States
CATEGORIES:Del Valle Health and Wellness,Wellness
ATTACH;FMTTYPE=image/jpeg:https://www.centralhealth.net/wp-content/uploads/2026/02/yoga-event-combo.jpg
END:VEVENT
BEGIN:VEVENT
DTSTART;TZID=America/Chicago:20310401T120000
DTEND;TZID=America/Chicago:20310401T133000
DTSTAMP:20260420T111744
CREATED:20260406T165132Z
LAST-MODIFIED:20260407T144023Z
UID:10018821-1932811200-1932816600@www.centralhealth.net
SUMMARY:Sound for Stress Yoga Classes
DESCRIPTION:Free\, bilingual\, and open to the community \nJoin our accessible yoga classes to reduce stress\, support your physical and mental health\, improve balance and flexibility. \nFor questions\, call 512.978.8528 \nKnow before you go\n\nArrive ten minutes early to register (first time only)\nSpace is limited\nChildcare is not available\nYoga mats and blocks will be provided
URL:https://www.centralhealth.net/my/event/bilingual-yoga4stress-relief-yoga-para-el-manejo-de-estres-2-2-2/2031-04-01/
LOCATION:Southeast Health & Wellness Center\, 2901 Montopolis Drive\, Austin\, TX\, 78741\, United States
CATEGORIES:Southeast Health & Wellness Center Schedule,Southeast Health and Wellness Center Events,Wellness
ATTACH;FMTTYPE=image/jpeg:https://www.centralhealth.net/wp-content/uploads/2026/02/yoga-event-combo.jpg
END:VEVENT
BEGIN:VEVENT
DTSTART;TZID=America/Chicago:20310401T183000
DTEND;TZID=America/Chicago:20310401T193000
DTSTAMP:20260420T111744
CREATED:20250512T185232Z
LAST-MODIFIED:20260407T144922Z
UID:10018924-1932834600-1932838200@www.centralhealth.net
SUMMARY:Free Zumba Classes
DESCRIPTION:Free\, bilingual\, and open to the community \nJoin a dance and fitness-focused class that blends international rhythms to tone and strengthen muscles\, enhance coordination\, improve posture\, and boost overall endurance. \nKnow before you go\n\nArrive ten minutes early to register (first time only)\nSpace is limited\nChildcare is not available\nLight hand weights will be provided\n\nFor questions\, call 512.978.8570
URL:https://www.centralhealth.net/my/event/free-zumba-classes-2/2031-04-01/
LOCATION:Del Valle Health & Wellness Center\, 7050 Elroy Road\, Del Valle\, TX\, 78617\, United States
CATEGORIES:Del Valle Health and Wellness,Wellness
ATTACH;FMTTYPE=image/jpeg:https://www.centralhealth.net/wp-content/uploads/2026/04/Zumba-event-combo.jpg
END:VEVENT
BEGIN:VEVENT
DTSTART;TZID=America/Chicago:20310401T183000
DTEND;TZID=America/Chicago:20310401T193000
DTSTAMP:20260420T111744
CREATED:20251202T172040Z
LAST-MODIFIED:20260407T144348Z
UID:10019008-1932834600-1932838200@www.centralhealth.net
SUMMARY:Adaptive Yoga
DESCRIPTION:Free\, bilingual\, and open to the community \nJoin our accessible yoga classes to reduce stress\, support your physical and mental health\, improve balance and flexibility. \nFor questions\, call 512.978.8528 \nKnow before you go\n\nArrive ten minutes early to register (first time only)\nSpace is limited\nChildcare is not available\nYoga mats and blocks will be provided
URL:https://www.centralhealth.net/my/event/adaptive-yoga-yoga-adaptada-2/2031-04-01/
LOCATION:Southeast Health & Wellness Center\, 2901 Montopolis Drive\, Austin\, TX\, 78741\, United States
CATEGORIES:Southeast Health & Wellness Center Schedule,Southeast Health and Wellness Center Events,Wellness
ATTACH;FMTTYPE=image/jpeg:https://www.centralhealth.net/wp-content/uploads/2026/02/yoga-event-combo.jpg
END:VEVENT
BEGIN:VEVENT
DTSTART;TZID=America/Chicago:20310402T183000
DTEND;TZID=America/Chicago:20310402T193000
DTSTAMP:20260420T111744
CREATED:20251203T150313Z
LAST-MODIFIED:20260407T144323Z
UID:10018991-1932921000-1932924600@www.centralhealth.net
SUMMARY:Free Yoga Classes
DESCRIPTION:Free\, bilingual\, and open to the community \nJoin our accessible yoga classes to reduce stress\, support your physical and mental health\, improve balance and flexibility. \nFor questions\, call 512.978.8570 \nKnow before you go\n\nArrive ten minutes early to register (first time only)\nSpace is limited\nChildcare is not available\nYoga mats and blocks will be provided
URL:https://www.centralhealth.net/my/event/free-yoga-classes/2031-04-02/
LOCATION:Hornsby Bend Health & Wellness Center\, 3700 Gilbert Road\, Austin\, TX\, 78725\, United States
CATEGORIES:Hornsby Bend Health and Wellness Center,Wellness
ATTACH;FMTTYPE=image/jpeg:https://www.centralhealth.net/wp-content/uploads/2026/02/yoga-event-combo.jpg
END:VEVENT
BEGIN:VEVENT
DTSTART;TZID=America/Chicago:20310402T183000
DTEND;TZID=America/Chicago:20310402T193000
DTSTAMP:20260420T111744
CREATED:20260406T180011Z
LAST-MODIFIED:20260407T144707Z
UID:10019270-1932921000-1932924600@www.centralhealth.net
SUMMARY:Free Zumba for Toning Classes
DESCRIPTION:Free\, bilingual\, and open to the community \nJoin a dance and fitness-focused class that blends international rhythms to tone and strengthen muscles\, enhance coordination\, improve posture\, and boost overall endurance. \nKnow before you go\n\nArrive ten minutes early to register (first time only)\nSpace is limited\nChildcare is not available\nLight hand weights will be provided\n\nFor questions\, call 512.978.8528
URL:https://www.centralhealth.net/my/event/free-zumba-for-toning-classes/2031-04-02/
LOCATION:Southeast Health & Wellness Center\, 2901 Montopolis Drive\, Austin\, TX\, 78741\, United States
CATEGORIES:Southeast Health & Wellness Center Schedule,Southeast Health and Wellness Center Events,Wellness
ATTACH;FMTTYPE=image/jpeg:https://www.centralhealth.net/wp-content/uploads/2026/04/Zumba-event-combo.jpg
END:VEVENT
BEGIN:VEVENT
DTSTART;TZID=America/Chicago:20310403T183000
DTEND;TZID=America/Chicago:20310403T193000
DTSTAMP:20260420T111744
CREATED:20250512T185232Z
LAST-MODIFIED:20260407T144922Z
UID:10018925-1933007400-1933011000@www.centralhealth.net
SUMMARY:Free Zumba Classes
DESCRIPTION:Free\, bilingual\, and open to the community \nJoin a dance and fitness-focused class that blends international rhythms to tone and strengthen muscles\, enhance coordination\, improve posture\, and boost overall endurance. \nKnow before you go\n\nArrive ten minutes early to register (first time only)\nSpace is limited\nChildcare is not available\nLight hand weights will be provided\n\nFor questions\, call 512.978.8570
URL:https://www.centralhealth.net/my/event/free-zumba-classes-2/2031-04-03/
LOCATION:Del Valle Health & Wellness Center\, 7050 Elroy Road\, Del Valle\, TX\, 78617\, United States
CATEGORIES:Del Valle Health and Wellness,Wellness
ATTACH;FMTTYPE=image/jpeg:https://www.centralhealth.net/wp-content/uploads/2026/04/Zumba-event-combo.jpg
END:VEVENT
BEGIN:VEVENT
DTSTART;TZID=America/Chicago:20310403T183000
DTEND;TZID=America/Chicago:20310403T193000
DTSTAMP:20260420T111744
CREATED:20251202T172040Z
LAST-MODIFIED:20260407T144348Z
UID:10019009-1933007400-1933011000@www.centralhealth.net
SUMMARY:Adaptive Yoga
DESCRIPTION:Free\, bilingual\, and open to the community \nJoin our accessible yoga classes to reduce stress\, support your physical and mental health\, improve balance and flexibility. \nFor questions\, call 512.978.8528 \nKnow before you go\n\nArrive ten minutes early to register (first time only)\nSpace is limited\nChildcare is not available\nYoga mats and blocks will be provided
URL:https://www.centralhealth.net/my/event/adaptive-yoga-yoga-adaptada-2/2031-04-03/
LOCATION:Southeast Health & Wellness Center\, 2901 Montopolis Drive\, Austin\, TX\, 78741\, United States
CATEGORIES:Southeast Health & Wellness Center Schedule,Southeast Health and Wellness Center Events,Wellness
ATTACH;FMTTYPE=image/jpeg:https://www.centralhealth.net/wp-content/uploads/2026/02/yoga-event-combo.jpg
END:VEVENT
BEGIN:VEVENT
DTSTART;TZID=America/Chicago:20310405T090000
DTEND;TZID=America/Chicago:20310405T100000
DTSTAMP:20260420T111744
CREATED:20260205T215342Z
LAST-MODIFIED:20260407T144731Z
UID:10018934-1933146000-1933149600@www.centralhealth.net
SUMMARY:Free Zumba Classes
DESCRIPTION:Free\, bilingual\, and open to the community \nJoin a dance and fitness-focused class that blends international rhythms to tone and strengthen muscles\, enhance coordination\, improve posture\, and boost overall endurance. \nKnow before you go\n\nArrive ten minutes early to register (first time only)\nSpace is limited\nChildcare is not available\nLight hand weights will be provided\n\nFor questions\, call 512.978.8528
URL:https://www.centralhealth.net/my/event/free-zumba-classes-5/2031-04-05/
LOCATION:Southeast Health & Wellness Center\, 2901 Montopolis Drive\, Austin\, TX\, 78741\, United States
CATEGORIES:Southeast Health & Wellness Center Schedule,Southeast Health and Wellness Center Events,Wellness
ATTACH;FMTTYPE=image/jpeg:https://www.centralhealth.net/wp-content/uploads/2026/04/Zumba-event-combo.jpg
END:VEVENT
BEGIN:VEVENT
DTSTART;TZID=America/Chicago:20310405T100000
DTEND;TZID=America/Chicago:20310405T110000
DTSTAMP:20260420T111744
CREATED:20260205T215534Z
LAST-MODIFIED:20260407T143854Z
UID:10018761-1933149600-1933153200@www.centralhealth.net
SUMMARY:Free Yoga and Tai Chi Classes (alternating weeks)
DESCRIPTION:Free\, bilingual and open to the community  \nJoin our accessible yoga classes to reduce stress\, support your physical and mental health\, improve balance and flexibility.  \nYoga for stress management and nervous system regulation – first and third Saturdays each month. \nTai Chi (slow\, controlled movements with deep breathing and focused intention to improve balance\, flexibility\, and strength) – second and fourth Saturdays each month. \nFor questions\, call 512.978.8528 \nKnow before you go\n\nArrive ten minutes early to register (first time only)\nSpace is limited\nChildcare is not available\nYoga mats and blocks will be provided
URL:https://www.centralhealth.net/my/event/free-yoga-classes-2/2031-04-05/
LOCATION:Southeast Health & Wellness Center\, 2901 Montopolis Drive\, Austin\, TX\, 78741\, United States
CATEGORIES:Southeast Health & Wellness Center Schedule,Southeast Health and Wellness Center Events,Wellness
ATTACH;FMTTYPE=image/jpeg:https://www.centralhealth.net/wp-content/uploads/2026/02/yoga-event-combo.jpg
END:VEVENT
BEGIN:VEVENT
DTSTART;TZID=America/Chicago:20310407T183000
DTEND;TZID=America/Chicago:20310407T193000
DTSTAMP:20260420T111744
CREATED:20251203T145656Z
LAST-MODIFIED:20260407T144828Z
UID:10019273-1933353000-1933356600@www.centralhealth.net
SUMMARY:Free Zumba Classes
DESCRIPTION:Free\, bilingual\, and open to the community \nJoin a dance and fitness-focused class that blends international rhythms to tone and strengthen muscles\, enhance coordination\, improve posture\, and boost overall endurance. \nKnow before you go\n\nArrive ten minutes early to register (first time only)\nSpace is limited\nChildcare is not available\nLight hand weights will be provided\n\nFor questions\, call 512.978.8528
URL:https://www.centralhealth.net/my/event/free-zumba-classes-3/2031-04-07/
LOCATION:Southeast Health & Wellness Center\, 2901 Montopolis Drive\, Austin\, TX\, 78741\, United States
CATEGORIES:Southeast Health & Wellness Center Schedule,Southeast Health and Wellness Center Events,Wellness
ATTACH;FMTTYPE=image/jpeg:https://www.centralhealth.net/wp-content/uploads/2026/04/Zumba-event-combo.jpg
END:VEVENT
BEGIN:VEVENT
DTSTART;TZID=America/Chicago:20310407T183000
DTEND;TZID=America/Chicago:20310407T193000
DTSTAMP:20260420T111744
CREATED:20260124T042454Z
LAST-MODIFIED:20260407T144806Z
UID:10019272-1933353000-1933356600@www.centralhealth.net
SUMMARY:Free Zumba Classes
DESCRIPTION:Free\, bilingual\, and open to the community \nJoin a dance and fitness-focused class that blends international rhythms to tone and strengthen muscles\, enhance coordination\, improve posture\, and boost overall endurance. \nKnow before you go\n\nArrive ten minutes early to register (first time only)\nSpace is limited\nChildcare is not available\nLight hand weights will be provided\n\nfor questions\, call 512.716.7210
URL:https://www.centralhealth.net/my/event/free-zumba-classes-4/2031-04-07/
LOCATION:Hornsby Bend Health & Wellness Center\, 3700 Gilbert Road\, Austin\, TX\, 78725\, United States
CATEGORIES:Hornsby Bend Health and Wellness Center,Wellness
ATTACH;FMTTYPE=image/jpeg:https://www.centralhealth.net/wp-content/uploads/2026/04/Zumba-event-combo.jpg
END:VEVENT
BEGIN:VEVENT
DTSTART;TZID=America/Chicago:20310407T183000
DTEND;TZID=America/Chicago:20310407T193000
DTSTAMP:20260420T111744
CREATED:20260304T142638Z
LAST-MODIFIED:20260407T144213Z
UID:10019271-1933353000-1933356600@www.centralhealth.net
SUMMARY:Free Yoga Classes
DESCRIPTION:Free\, bilingual\, and open to the community \nJoin our accessible yoga classes to reduce stress\, support your physical and mental health\, improve balance and flexibility. \nFor questions\, call 512.716.7210 \nKnow before you go\n\nArrive ten minutes early to register (first time only)\nSpace is limited\nChildcare is not available\nYoga mats and blocks will be provided
URL:https://www.centralhealth.net/my/event/free-yoga-classes-3/2031-04-07/
LOCATION:Del Valle Health & Wellness Center\, 7050 Elroy Road\, Del Valle\, TX\, 78617\, United States
CATEGORIES:Del Valle Health and Wellness,Wellness
ATTACH;FMTTYPE=image/jpeg:https://www.centralhealth.net/wp-content/uploads/2026/02/yoga-event-combo.jpg
END:VEVENT
BEGIN:VEVENT
DTSTART;TZID=America/Chicago:20310418T150000
DTEND;TZID=America/Chicago:20310418T170000
DTSTAMP:20260420T111744
CREATED:20240917T192653Z
LAST-MODIFIED:20251203T160604Z
UID:10019281-1934290800-1934298000@www.centralhealth.net
SUMMARY:Fresh for Less Mobile Market
DESCRIPTION:Mobile Markets: tasty\, healthy\, close by. Farmshare Austin’s Fresh for Less Mobile Markets bring locally grown produce and other healthy grocery items at reduced prices to you. \nThey accept Lone Star\, SNAP\, P-EBT\, credit card\, debit card\, and cash payments. Get double the amount you spend on fresh produce with Double Up Food Bucks for an even greater value. \nFor questions\, contact foodaccess@farmshareaustin.org or visit online at farmshareaustin.org/food-access.
URL:https://www.centralhealth.net/my/event/fresh-for-less-mobile-market/2031-04-18/
LOCATION:Hornsby Bend Health & Wellness Center\, 3700 Gilbert Road\, Austin\, TX\, 78725\, United States
CATEGORIES:Hornsby Bend Health and Wellness Center,Wellness
END:VEVENT
END:VCALENDAR