BEGIN:VCALENDAR
VERSION:2.0
PRODID:-//Central Health - ECPv6.15.20//NONSGML v1.0//EN
CALSCALE:GREGORIAN
METHOD:PUBLISH
X-ORIGINAL-URL:https://www.centralhealth.net/ne
X-WR-CALDESC:Events for Central Health
REFRESH-INTERVAL;VALUE=DURATION:PT1H
X-Robots-Tag:noindex
X-PUBLISHED-TTL:PT1H
BEGIN:VTIMEZONE
TZID:America/Chicago
BEGIN:DAYLIGHT
TZOFFSETFROM:-0600
TZOFFSETTO:-0500
TZNAME:CDT
DTSTART:20290311T080000
END:DAYLIGHT
BEGIN:STANDARD
TZOFFSETFROM:-0500
TZOFFSETTO:-0600
TZNAME:CST
DTSTART:20291104T070000
END:STANDARD
BEGIN:DAYLIGHT
TZOFFSETFROM:-0600
TZOFFSETTO:-0500
TZNAME:CDT
DTSTART:20300310T080000
END:DAYLIGHT
BEGIN:STANDARD
TZOFFSETFROM:-0500
TZOFFSETTO:-0600
TZNAME:CST
DTSTART:20301103T070000
END:STANDARD
BEGIN:DAYLIGHT
TZOFFSETFROM:-0600
TZOFFSETTO:-0500
TZNAME:CDT
DTSTART:20310309T080000
END:DAYLIGHT
BEGIN:STANDARD
TZOFFSETFROM:-0500
TZOFFSETTO:-0600
TZNAME:CST
DTSTART:20311102T070000
END:STANDARD
END:VTIMEZONE
BEGIN:VEVENT
DTSTART;TZID=America/Chicago:20301209T183000
DTEND;TZID=America/Chicago:20301209T193000
DTSTAMP:20260419T234448
CREATED:20251203T145656Z
LAST-MODIFIED:20260407T144828Z
UID:10018936-1923071400-1923075000@www.centralhealth.net
SUMMARY:Free Zumba Classes
DESCRIPTION:Free\, bilingual\, and open to the community \nJoin a dance and fitness-focused class that blends international rhythms to tone and strengthen muscles\, enhance coordination\, improve posture\, and boost overall endurance. \nKnow before you go\n\nArrive ten minutes early to register (first time only)\nSpace is limited\nChildcare is not available\nLight hand weights will be provided\n\nFor questions\, call 512.978.8528
URL:https://www.centralhealth.net/ne/event/free-zumba-classes-3/2030-12-09/
LOCATION:Southeast Health & Wellness Center\, 2901 Montopolis Drive\, Austin\, TX\, 78741\, United States
CATEGORIES:Southeast Health & Wellness Center Schedule,Southeast Health and Wellness Center Events,Wellness
ATTACH;FMTTYPE=image/jpeg:https://www.centralhealth.net/wp-content/uploads/2026/04/Zumba-event-combo.jpg
END:VEVENT
BEGIN:VEVENT
DTSTART;TZID=America/Chicago:20301209T183000
DTEND;TZID=America/Chicago:20301209T193000
DTSTAMP:20260419T234448
CREATED:20260124T042454Z
LAST-MODIFIED:20260407T144806Z
UID:10017615-1923071400-1923075000@www.centralhealth.net
SUMMARY:Free Zumba Classes
DESCRIPTION:Free\, bilingual\, and open to the community \nJoin a dance and fitness-focused class that blends international rhythms to tone and strengthen muscles\, enhance coordination\, improve posture\, and boost overall endurance. \nKnow before you go\n\nArrive ten minutes early to register (first time only)\nSpace is limited\nChildcare is not available\nLight hand weights will be provided\n\nfor questions\, call 512.716.7210
URL:https://www.centralhealth.net/ne/event/free-zumba-classes-4/2030-12-09/
LOCATION:Hornsby Bend Health & Wellness Center\, 3700 Gilbert Road\, Austin\, TX\, 78725\, United States
CATEGORIES:Hornsby Bend Health and Wellness Center,Wellness
ATTACH;FMTTYPE=image/jpeg:https://www.centralhealth.net/wp-content/uploads/2026/04/Zumba-event-combo.jpg
END:VEVENT
BEGIN:VEVENT
DTSTART;TZID=America/Chicago:20301209T183000
DTEND;TZID=America/Chicago:20301209T193000
DTSTAMP:20260419T234448
CREATED:20260304T142638Z
LAST-MODIFIED:20260407T144213Z
UID:10018725-1923071400-1923075000@www.centralhealth.net
SUMMARY:Free Yoga Classes
DESCRIPTION:Free\, bilingual\, and open to the community \nJoin our accessible yoga classes to reduce stress\, support your physical and mental health\, improve balance and flexibility. \nFor questions\, call 512.716.7210 \nKnow before you go\n\nArrive ten minutes early to register (first time only)\nSpace is limited\nChildcare is not available\nYoga mats and blocks will be provided
URL:https://www.centralhealth.net/ne/event/free-yoga-classes-3/2030-12-09/
LOCATION:Del Valle Health & Wellness Center\, 7050 Elroy Road\, Del Valle\, TX\, 78617\, United States
CATEGORIES:Del Valle Health and Wellness,Wellness
ATTACH;FMTTYPE=image/jpeg:https://www.centralhealth.net/wp-content/uploads/2026/02/yoga-event-combo.jpg
END:VEVENT
END:VCALENDAR