BEGIN:VCALENDAR
VERSION:2.0
PRODID:-//Central Health - ECPv6.15.20//NONSGML v1.0//EN
CALSCALE:GREGORIAN
METHOD:PUBLISH
X-ORIGINAL-URL:https://www.centralhealth.net
X-WR-CALDESC:Events for Central Health
REFRESH-INTERVAL;VALUE=DURATION:PT1H
X-Robots-Tag:noindex
X-PUBLISHED-TTL:PT1H
BEGIN:VTIMEZONE
TZID:America/Chicago
BEGIN:DAYLIGHT
TZOFFSETFROM:-0600
TZOFFSETTO:-0500
TZNAME:CDT
DTSTART:20250309T080000
END:DAYLIGHT
BEGIN:STANDARD
TZOFFSETFROM:-0500
TZOFFSETTO:-0600
TZNAME:CST
DTSTART:20251102T070000
END:STANDARD
BEGIN:DAYLIGHT
TZOFFSETFROM:-0600
TZOFFSETTO:-0500
TZNAME:CDT
DTSTART:20260308T080000
END:DAYLIGHT
BEGIN:STANDARD
TZOFFSETFROM:-0500
TZOFFSETTO:-0600
TZNAME:CST
DTSTART:20261101T070000
END:STANDARD
BEGIN:DAYLIGHT
TZOFFSETFROM:-0600
TZOFFSETTO:-0500
TZNAME:CDT
DTSTART:20270314T080000
END:DAYLIGHT
BEGIN:STANDARD
TZOFFSETFROM:-0500
TZOFFSETTO:-0600
TZNAME:CST
DTSTART:20271107T070000
END:STANDARD
END:VTIMEZONE
BEGIN:VEVENT
DTSTART;TZID=America/Chicago:20260502T090000
DTEND;TZID=America/Chicago:20260502T153000
DTSTAMP:20260424T074144
CREATED:20260422T181239Z
LAST-MODIFIED:20260422T181439Z
UID:10019283-1777712400-1777735800@www.centralhealth.net
SUMMARY:Board of Managers Special Meeting - Board Retreat
DESCRIPTION:Download the agenda:\nBoard of Managers Meeting Board Retreat Agenda \nSign up to speak \n\nSaturday\, May 2nd\, 2026\, 9:00 a.m.  \nBOARD OF MANAGERS SPECIAL MEETING – BOARD RETREAT \nVideoconference meeting 1 \nA quorum of the Committee and the presiding officer will be present at:  \nCourtyard by Marriott – Austin South\n4533 South IH 35\nAustin\, Texas 78744\nWooten Meeting Room \nLinks to livestream video are available at the URL below (copy and paste into your web browser): \n\nhttps://www.youtube.com/@tchealthdistrict/streams\n\nA member of the public who wishes to make comments virtually during Public Communication for the Board of Managers meeting or the Executive Committee meeting must properly register with Central Health no later than 7:30 a.m. on May 2nd\, 2026. Registration can be completed in one of three ways: \n\nComplete the virtual sign-in form at https://www.centralhealth.net/meeting-sign-up/;\nCall 512-978-9190. Please leave a voice message with your full name and your request to comment via telephone at the meeting; with the name of the meeting at which you wish to speak; or\nSign-in at the front desk on the day of the meeting\, prior to the start of the meeting.\n\nIndividuals who register to speak on the website or by telephone will receive a confirmation email and/or phone call by staff with instructions on how to join the meeting and participate in public communication. \nPublic Communication rules for Central Health Board and Committee meetings include setting a fixed amount of time per person to speak and limiting Committee and Board responses to public inquiries\, if any\, to statements of specific factual information or existing policy.
URL:https://www.centralhealth.net/event/board-of-managers-special-meeting-board-retreat-2/
LOCATION:Courtyard by Marriott – Austin South\, 4533 South IH 35\, Austin\, 78744\, United States
CATEGORIES:Board of Managers Committee Meeting,Board of Managers Meetings
ORGANIZER;CN="Briana Yanes%2C Board Governance Manager":MAILTO:briana.yanes@centralhealth.net
END:VEVENT
END:VCALENDAR